{"text_format":"3","workbook":"xlsx","n_sheets":5,"sheets":["standaardposten","specials","totaal","UITSLAG","Blad1"],"not_rendered":{"macros":1},"read":"whole","date_system":"1900"}

{"sheet":"standaardposten","index":0,"n_rows":83,"n_cols":42,"rows_kept":83}
[null,"Standaardposten","Eric en Ad","De Foutlopers","The Nerds Running from ","Cool Running","Beat the Cool Running","De Fixers","Het Krolse Molleke","Balen Express","De Borascanen","De pers. Vr. v Jo Vally","Wiet en Wim","Dommelen vooruit","Kruier en co","Roesskie idoet","Jeremy en Stef","Edge of Sanity","PAIN","De Boswippers","De Trollen","De Boekelbastards","Brabantse Blubber Baggeraars"]
[1,74,74,74,74,74,74,74,74,74,74,74,74,74,74,74,74,74,74,74,74,74,71]
[2,78,78,78,78,78,78,78,78,78,78,78,78,78,78,61,78,78,78,78,78,78,61]
[3,57,57,57,57,57,57,57,57,57,57,57,57,57,57,57,57,57,57,57,57,57,57]
[4,59,59,59,59,59,59,59,59,59,59,59,59,59,59,59,59,59,59,59,59,59,59]
[5,55,55,55,55,55,55,55,55,55,55,55,55,55,55,55,55,55,55,55,55,55,55]
[6,50,50,50,50,50,50,50,50,50,50,50,50,50,50,50,50,50,50,50,50,50,50]
[7,54,54,54,54,54,54,54,54,54,54,54,54,0,54,54,54,54,54,0,54,54,54]
[8,3,3,0,3,3,3,3,3,3,3,3,3,0,3,0,3,3,3,3,3,3,3]
[9,2,2,0,2,2,2,2,36,33,2,2,2,0,2,0,2,2,2,2,2,2,2]
[10,33,36,0,33,33,33,33,33,2,33,33,33,0,33,0,33,33,33,33,33,33,33]
[11,41,41,0,41,41,41,41,41,41,41,41,41,0,41,41,41,41,41,41,41,41,41]
[12,8,8,0,8,8,8,8,8,8,8,8,8,0,8,8,8,8,8,8,8,8,8]
[13,23,23,0,23,23,23,23,23,23,23,23,23,0,23,0,23,23,23,23,23,23,23]
[14,10,10,0,10,10,10,10,10,10,10,10,10,0,10,0,10,10,10,10,10,10,10]
[15,4,4,0,4,11,0,4,4,4,4,4,4,0,4,0,4,4,4,4,4,4,4]
[16,35,35,0,35,35,4,0,35,35,35,35,35,0,35,0,35,35,35,35,35,35,35]
[17,30,30,0,30,30,30,0,30,30,30,30,30,0,30,0,30,30,30,30,30,30,30]
[18,32,32,0,32,32,32,0,32,32,32,32,32,0,32,0,32,32,32,32,32,32,32]
[19,6,6,0,6,6,6,0,6,6,6,6,6,0,6,0,6,6,6,6,6,6,6]
[20,58,58,0,58,58,58,0,58,58,58,58,58,0,58,0,58,58,58,58,58,58,58]
[21,62,11,0,62,62,62,0,0,11,62,11,11,0,11,0,62,62,62,62,62,62,62]
[22,19,19,0,19,19,19,0,0,19,19,19,19,0,19,0,19,0,19,19,19,19,19]
[23,14,0,0,14,14,94,0,0,14,14,14,14,0,14,0,14,0,14,14,14,14,14]
[24,12,0,0,12,12,53,0,0,12,12,0,49,0,12,0,12,0,12,49,12,53,12]
[25,27,12,0,27,27,18,0,0,27,27,0,47,0,27,0,27,0,27,53,27,53,0]
[26,13,0,0,38,38,98,0,0,38,13,13,38,0,13,0,13,0,38,38,98,13,0]
[27,46,0,0,46,84,46,0,0,46,46,46,46,0,46,0,46,0,84,46,0,46,84]
[28,20,0,0,20,20,20,0,0,20,20,20,20,0,20,0,20,0,20,20,0,62,0]
[29,4,0,0,4,4,4,0,0,4,4,4,4,0,4,0,4,0,4,4,0,19,0]
[30,36,0,0,36,36,36,0,0,36,36,36,36,0,36,0,36,0,36,0,0,24,0]
[31,30,0,0,30,30,30,0,0,30,30,30,30,0,30,0,30,0,31,30,0,38,0]
[32,79,0,0,79,79,79,0,79,79,79,79,79,0,79,79,79,79,79,79,79,79,0]
[33,20,20,20,20,20,20,0,20,20,20,20,20,20,20,20,20,20,20,20,20,20,20]
[34,78,78,78,78,78,78,78,78,78,78,78,78,78,78,78,78,78,78,78,78,78,78]
[35,92,92,92,92,92,23,2,92,92,92,92,23,92,92,92,92,92,92,92,92,92,61]
[36,26,26,26,26,26,26,26,26,20,26,26,26,26,26,26,26,26,26,26,26,26,26]
[37,82,82,82,82,82,82,82,82,82,82,82,82,82,82,82,82,82,82,82,82,82,82]
[38,44,44,44,44,44,44,44,44,44,44,44,44,44,44,44,44,44,44,44,44,44,44]
[39,14,14,14,1,1,1,14,1,14,14,1,14,14,1,14,14,14,14,14,14,14,14]
[40,15,15,15,15,15,0,15,15,15,15,15,15,15,15,15,15,15,15,15,15,14,15]
[41,72,72,4,17,4,0,4,17,4,17,4,4,72,4,0,72,4,4,4,72,4,4]
[42,32,32,32,32,32,32,32,32,32,32,32,32,32,32,32,32,32,32,32,32,32,32]
[43,40,40,40,40,40,40,40,22,40,40,40,22,22,22,40,40,40,22,40,40,22,40]
[44,22,22,22,22,22,0,22,40,22,22,22,40,40,40,22,22,22,40,22,22,40,22]
[45,71,71,71,71,71,71,71,71,71,71,71,71,71,71,77,71,71,71,71,71,71,71]
[46,42,42,42,42,42,42,42,42,42,42,42,42,42,42,42,42,42,42,42,42,42,42]
[47,3,3,3,3,3,3,3,3,3,3,3,3,3,3,0,3,3,3,3,3,3,3]
[48,11,11,11,11,11,11,11,11,11,11,11,11,11,11,0,11,11,11,11,11,11,11]
[49,24,14,24,24,24,24,24,24,24,24,24,24,24,24,0,24,24,24,24,24,24,24]
[50,70,70,70,70,70,70,70,70,70,70,70,70,70,70,70,70,70,70,70,70,70,70]
[51,3,3,3,3,3,8,3,3,3,3,3,3,3,3,3,3,3,3,3,3,3,3]
[52,15,15,52,15,15,3,15,15,15,15,15,15,15,15,15,15,15,15,15,15,15,15]
[53,13,13,13,13,13,13,13,31,13,13,13,13,7,13,13,13,13,13,13,13,13,13]
[54,5,5,5,5,5,5,5,5,5,5,5,5,5,5,5,54,5,5,5,5,5,5]
[55,74,74,74,74,74,73,74,74,74,74,74,74,74,74,74,74,74,74,74,74,74,74]
[56,8,8,8,8,8,15,8,8,8,8,8,8,8,8,8,8,8,8,8,8,8,8]
[57,43,43,43,43,43,43,43,43,43,43,43,43,43,43,43,43,43,43,43,43,43,43]
[58,18,18,18,18,18,18,18,18,18,18,18,18,18,18,18,18,18,18,18,18,18,18]
[59,7,7,7,7,7,7,7,7,7,7,7,7,7,7,7,7,7,7,7,7,7,7]
[60,16,16,39,16,16,16,16,32,16,16,16,16,16,16,16,16,16,16,32,16,16,16]
[61,8,0,0,8,0,16,0,0,8,8,0,8,0,0,0,34,0,8,0,0,34,0]
[62,55,55,55,55,55,32,55,55,55,55,55,55,55,55,55,55,55,55,55,55,55,55]
[63]
[64]
[65]
[66]
[67]
[68]
[69]
[70]
[71]
[72]
[73]
[74]
[75]
[76]
[77]
[78]
[79]
[80]
[null,"INCORRECT",{"$f":"CountByTest(C2:C81)","v":14},{"$f":"CountByTest(D2:D81)","v":29},3,6,17,21,19,6,1,6,8,30,6,29,2,12,6,8,7,11,13,0,0,0,0,{"$f":"CountByTest(AB2:AB81)","v":0},0,0,0,0,0,0,0,0,0,0,0,0,0,0]
[null,"INCORRECT (x 30)",{"$f":"C82*30","v":420},{"$f":"D82*30","v":870},90,180,510,630,570,180,30,180,240,900,180,870,60,360,180,240,210,330,390,0,0,0,0,0,0,0,0,0,0,0,0,0,0,0,0,0,0,0]

{"sheet":"specials","index":1,"n_rows":50,"n_cols":42,"rows_kept":50}
[null,"Specials",{"$f":"standaardposten!C1","v":"Eric en Ad"},{"$f":"standaardposten!D1","v":"De Foutlopers"},{"$f":"standaardposten!E1","v":"The Nerds Running from "},{"$f":"standaardposten!F1","v":"Cool Running"},{"$f":"standaardposten!G1","v":"Beat the Cool Running"},{"$f":"standaardposten!H1","v":"De Fixers"},{"$f":"standaardposten!I1","v":"Het Krolse Molleke"},{"$f":"standaardposten!J1","v":"Balen Express"},{"$f":"standaardposten!K1","v":"De Borascanen"},{"$f":"standaardposten!L1","v":"De pers. Vr. v Jo Vally"},{"$f":"standaardposten!M1","v":"Wiet en Wim"},{"$f":"standaardposten!N1","v":"Dommelen vooruit"},{"$f":"standaardposten!O1","v":"Kruier en co"},{"$f":"standaardposten!P1","v":"Roesskie idoet"},{"$f":"standaardposten!Q1","v":"Jeremy en Stef"},{"$f":"standaardposten!R1","v":"Edge of Sanity"},{"$f":"standaardposten!S1","v":"PAIN"},{"$f":"standaardposten!T1","v":"De Boswippers"},{"$f":"standaardposten!U1","v":"De Trollen"},{"$f":"standaardposten!V1","v":"De Boekelbastards"},{"$f":"standaardposten!W1","v":"Brabantse Blubber Baggeraars"},{"$f":"standaardposten!X1","v":0},{"$f":"standaardposten!Y1","v":0},{"$f":"standaardposten!Z1","v":0},{"$f":"standaardposten!AA1","v":0},{"$f":"standaardposten!AB1","v":0},{"$f":"standaardposten!AC1","v":0},{"$f":"standaardposten!AD1","v":0},{"$f":"standaardposten!AE1","v":0},{"$f":"standaardposten!AF1","v":0},{"$f":"standaardposten!AG1","v":0},{"$f":"standaardposten!AH1","v":0},{"$f":"standaardposten!AI1","v":0},{"$f":"standaardposten!AJ1","v":0},{"$f":"standaardposten!AK1","v":0},{"$f":"standaardposten!AL1","v":0},{"$f":"standaardposten!AM1","v":0},{"$f":"standaardposten!AN1","v":0},{"$f":"standaardposten!AO1","v":0},{"$f":"standaardposten!AP1","v":0}]
["A",88,88,88,88,88,88,88,88,88,88,88,88,88,88,88,88,88,88,88,88,88,42]
["B",1,22,0,1,1,0,1,0,22,22,22,22,0,22,0,1,22,22,22,1,1,1]
["C",7,7,0,7,21,7,7,7,7,7,7,7,0,19,20,7,7,7,7,7,19,7]
["D",48,48,0,48,48,14,0,0,48,48,48,48,0,48,0,48,0,48,48,0,92,0]
["E",45,0,0,45,21,0,0,0,45,45,45,45,0,45,0,45,0,45,0,0,84,0]
["F",41,0,0,41,41,0,0,0,41,41,41,41,0,41,0,41,0,41,0,0,38,0]
["G",2,0,0,2,2,2,0,0,2,2,2,44,0,44,0,2,0,2,0,0,5,0]
["H",51,0,0,51,51,12,0,0,51,51,12,12,0,51,0,51,0,12,0,0,9,0]
["I",88,0,0,88,88,88,0,0,88,88,88,88,0,88,0,88,0,88,0,0,73,0]
["J",77,0,0,28,77,0,0,0,77,28,77,28,0,28,0,28,0,77,0,0,63,0]
["K",5,0,0,5,85,85,0,85,5,5,85,5,0,85,5,5,0,85,0,0,85,0]
["L",83,0,0,83,83,83,0,83,83,83,83,83,0,83,83,83,0,75,0,0,83,0]
["M",15,0,0,15,82,16,0,0,15,15,15,82,0,15,15,15,0,15,0,82,24,0]
["N",43,0,0,43,43,17,0,0,43,11,43,11,0,43,0,43,0,43,0,0,38,0]
["O",22,0,0,17,22,12,22,16,11,22,56,16,0,0,22,17,16,22,17,0,71,0]
["P",1,87,87,1,12,87,87,1,1,87,1,87,1,87,1,1,1,87,87,87,1,1]
["Q",12,12,12,12,25,12,12,12,12,12,12,12,12,12,12,12,12,12,0,12,12,12]
["R",13,13,13,13,13,0,13,13,13,13,13,13,13,13,13,13,13,13,13,13,13,13]
["S",75,63,0,75,75,0,0,75,75,75,75,75,26,75,63,75,75,75,0,63,75,75]
["T",18,18,18,18,18,18,18,18,18,18,18,18,18,18,18,18,18,18,18,18,18,18]
["U",12,12,12,12,12,12,12,12,12,12,12,12,12,12,12,12,12,12,12,12,12,12]
["V",14,14,14,14,14,0,14,14,14,14,14,14,14,14,14,14,14,14,0,14,14,14]
["W",73,25,73,73,2,73,2,73,73,73,73,73,2,73,73,73,73,73,25,2,2,2]
["X",80,42,1,80,42,42,42,42,42,42,42,1,0,42,42,42,42,42,42,62,80,42]
["Y",58,52,58,58,51,58,58,58,58,58,58,58,58,58,58,58,58,58,58,58,58,58]
["Z1",19,19,10,19,10,10,10,10,19,19,10,19,19,10,10,19,19,19,19,19,19,10]
["Z2"]
["X1",28,28,28,28,28,0,28,28,28,28,28,28,0,28,28,28,28,28,0,48,28,28]
["X2",27,27,27,27,27,41,41,17,27,27,27,27,27,17,27,27,27,27,17,27,27,27]
["X3",16,16,0,16,16,0,16,16,16,16,16,16,16,16,0,16,16,16,16,16,16,16]
["X4",45,0,21,0,45,65,0,0,45,45,45,21,45,45,45,0,0,45,0,4,45,0]
["X5",44,30,44,44,30,44,30,30,44,30,30,30,44,44,30,44,44,30,30,44,30,30]
["X6",7,7,7,7,7,7,19,7,7,7,7,7,7,7,7,7,7,7,7,7,7,19]
["X7",10,0,10,10,0,17,0,0,8,0,0,34,0,0,0,10,0,8,0,0,26,0]
["X8",30,0,30,30,0,17,0,0,30,30,0,74,0,0,0,30,0,30,0,0,14,0]
["X9",20,0,20,20,0,16,0,0,20,20,0,74,0,0,0,20,0,20,0,0,48,0]
["X10"]
["X11"]
["X12"]
["X13"]
["X14"]
["X15"]
["X16"]
["X17"]
["X18"]
["X19"]
["X20"]
[null,"INCORRECT",{"$f":"CountByTestSpec(C2:C48)","v":22},20,3,14,23,23,20,4,7,10,14,21,13,18,4,18,8,25,21,17,22,0,0,0,0,0,0,0,0,0,0,0,0,0,0,0,0,0,0,0]
[null,"INCORRECT (x 45)",{"$f":"C49*45","v":990},{"$f":"D49*45","v":900},{"$f":"E49*45","v":135},630,1035,1035,900,180,315,450,630,945,585,810,180,810,360,1125,945,765,990,0,0,0,0,0,0,0,0,0,0,0,0,0,0,0,0,0,0,0]

{"sheet":"totaal","index":2,"n_rows":7,"n_cols":41,"rows_kept":7}
["Totaal",{"$f":"standaardposten!C1","v":"Eric en Ad"},{"$f":"standaardposten!D1","v":"De Foutlopers"},{"$f":"standaardposten!E1","v":"The Nerds Running from "},{"$f":"standaardposten!F1","v":"Cool Running"},{"$f":"standaardposten!G1","v":"Beat the Cool Running"},{"$f":"standaardposten!H1","v":"De Fixers"},{"$f":"standaardposten!I1","v":"Het Krolse Molleke"},{"$f":"standaardposten!J1","v":"Balen Express"},{"$f":"standaardposten!K1","v":"De Borascanen"},{"$f":"standaardposten!L1","v":"De pers. Vr. v Jo Vally"},{"$f":"standaardposten!M1","v":"Wiet en Wim"},{"$f":"standaardposten!N1","v":"Dommelen vooruit"},{"$f":"standaardposten!O1","v":"Kruier en co"},{"$f":"standaardposten!P1","v":"Roesskie idoet"},{"$f":"standaardposten!Q1","v":"Jeremy en Stef"},{"$f":"standaardposten!R1","v":"Edge of Sanity"},{"$f":"standaardposten!S1","v":"PAIN"},{"$f":"standaardposten!T1","v":"De Boswippers"},{"$f":"standaardposten!U1","v":"De Trollen"},{"$f":"standaardposten!V1","v":"De Boekelbastards"},{"$f":"standaardposten!W1","v":"Brabantse Blubber Baggeraars"},{"$f":"standaardposten!X1","v":0},{"$f":"standaardposten!Y1","v":0},{"$f":"standaardposten!Z1","v":0},{"$f":"standaardposten!AA1","v":0},{"$f":"standaardposten!AB1","v":0},{"$f":"standaardposten!AC1","v":0},{"$f":"standaardposten!AD1","v":0},{"$f":"standaardposten!AE1","v":0},{"$f":"standaardposten!AF1","v":0},{"$f":"standaardposten!AG1","v":0},{"$f":"standaardposten!AH1","v":0},{"$f":"standaardposten!AI1","v":0},{"$f":"standaardposten!AJ1","v":0},{"$f":"standaardposten!AK1","v":0},{"$f":"standaardposten!AL1","v":0},{"$f":"standaardposten!AM1","v":0},{"$f":"standaardposten!AN1","v":0},{"$f":"standaardposten!AO1","v":0},{"$f":"standaardposten!AP1","v":0}]
["Wedstrijduur",{"$f":"IF(B1<>0,360,9999)","v":360},{"$f":"IF(C1<>0,360,9999)","v":360},360,360,360,360,360,360,360,360,360,360,360,360,360,360,360,360,360,360,360,9999,9999,9999,9999,9999,9999,9999,9999,9999,9999,9999,9999,9999,9999,9999,9999,9999,9999,9999]
["Te vroeg",-1,-3,{"$nulls":3},-25,-2,-17,-4,3,-43,-2,null,-3,-39]
["Te laat",null,null,{"v":75,"d":"+75"},{"v":33,"d":"+33"},{"v":0,"d":"+0"},{"$nulls":7},{"v":33,"d":"+33"},null,null,{"v":15,"d":"+15"},{"v":0,"d":"+0"},{"v":15,"d":"+15"},{"v":108,"d":"+108"},{"v":120,"d":"+120"},{"v":114,"d":"+114"}]
["Standaardposten",{"$f":"standaardposten!C83","v":{"v":420,"d":"+420"}},{"$f":"standaardposten!D83","v":{"v":870,"d":"+870"}},{"$f":"standaardposten!E83","v":{"v":90,"d":"+90"}},{"$f":"standaardposten!F83","v":{"v":180,"d":"+180"}},{"$f":"standaardposten!G83","v":{"v":510,"d":"+510"}},{"$f":"standaardposten!H83","v":{"v":630,"d":"+630"}},{"$f":"standaardposten!I83","v":{"v":570,"d":"+570"}},{"$f":"standaardposten!J83","v":{"v":180,"d":"+180"}},{"$f":"standaardposten!K83","v":{"v":30,"d":"+30"}},{"$f":"standaardposten!L83","v":{"v":180,"d":"+180"}},{"$f":"standaardposten!M83","v":{"v":240,"d":"+240"}},{"$f":"standaardposten!N83","v":{"v":900,"d":"+900"}},{"$f":"standaardposten!O83","v":{"v":180,"d":"+180"}},{"$f":"standaardposten!P83","v":{"v":870,"d":"+870"}},{"$f":"standaardposten!Q83","v":{"v":60,"d":"+60"}},{"$f":"standaardposten!R83","v":{"v":360,"d":"+360"}},{"$f":"standaardposten!S83","v":{"v":180,"d":"+180"}},{"$f":"standaardposten!T83","v":{"v":240,"d":"+240"}},{"$f":"standaardposten!U83","v":{"v":210,"d":"+210"}},{"$f":"standaardposten!V83","v":{"v":330,"d":"+330"}},{"$f":"standaardposten!W83","v":{"v":390,"d":"+390"}},{"$f":"standaardposten!X83","v":{"v":0,"d":"+0"}},{"$f":"standaardposten!Y83","v":{"v":0,"d":"+0"}},{"$f":"standaardposten!Z83","v":{"v":0,"d":"+0"}},{"$f":"standaardposten!AA83","v":{"v":0,"d":"+0"}},{"$f":"standaardposten!AB83","v":{"v":0,"d":"+0"}},{"$f":"standaardposten!AC83","v":{"v":0,"d":"+0"}},{"$f":"standaardposten!AD83","v":{"v":0,"d":"+0"}},{"$f":"standaardposten!AE83","v":{"v":0,"d":"+0"}},{"$f":"standaardposten!AF83","v":{"v":0,"d":"+0"}},{"$f":"standaardposten!AG83","v":{"v":0,"d":"+0"}},{"$f":"standaardposten!AH83","v":{"v":0,"d":"+0"}},{"$f":"standaardposten!AI83","v":{"v":0,"d":"+0"}},{"$f":"standaardposten!AJ83","v":{"v":0,"d":"+0"}},{"$f":"standaardposten!AK83","v":{"v":0,"d":"+0"}},{"$f":"standaardposten!AL83","v":{"v":0,"d":"+0"}},{"$f":"standaardposten!AM83","v":{"v":0,"d":"+0"}},{"$f":"standaardposten!AN83","v":{"v":0,"d":"+0"}},{"$f":"standaardposten!AO83","v":{"v":0,"d":"+0"}},{"$f":"standaardposten!AP83","v":{"v":0,"d":"+0"}}]
["Specials",{"$f":"specials!C50","v":{"v":990,"d":"+990"}},{"$f":"specials!D50","v":{"v":900,"d":"+900"}},{"$f":"specials!E50","v":{"v":135,"d":"+135"}},{"$f":"specials!F50","v":{"v":630,"d":"+630"}},{"$f":"specials!G50","v":{"v":1035,"d":"+1035"}},{"$f":"specials!H50","v":{"v":1035,"d":"+1035"}},{"$f":"specials!I50","v":{"v":900,"d":"+900"}},{"$f":"specials!J50","v":{"v":180,"d":"+180"}},{"$f":"specials!K50","v":{"v":315,"d":"+315"}},{"$f":"specials!L50","v":{"v":450,"d":"+450"}},{"$f":"specials!M50","v":{"v":630,"d":"+630"}},{"$f":"specials!N50","v":{"v":945,"d":"+945"}},{"$f":"specials!O50","v":{"v":585,"d":"+585"}},{"$f":"specials!P50","v":{"v":810,"d":"+810"}},{"$f":"specials!Q50","v":{"v":180,"d":"+180"}},{"$f":"specials!R50","v":{"v":810,"d":"+810"}},{"$f":"specials!S50","v":{"v":360,"d":"+360"}},{"$f":"specials!T50","v":{"v":1125,"d":"+1125"}},{"$f":"specials!U50","v":{"v":945,"d":"+945"}},{"$f":"specials!V50","v":{"v":765,"d":"+765"}},{"$f":"specials!W50","v":{"v":990,"d":"+990"}},{"$f":"specials!X50","v":{"v":0,"d":"+0"}},{"$f":"specials!Y50","v":{"v":0,"d":"+0"}},{"$f":"specials!Z50","v":{"v":0,"d":"+0"}},{"$f":"specials!AA50","v":{"v":0,"d":"+0"}},{"$f":"specials!AB50","v":{"v":0,"d":"+0"}},{"$f":"specials!AC50","v":{"v":0,"d":"+0"}},{"$f":"specials!AD50","v":{"v":0,"d":"+0"}},{"$f":"specials!AE50","v":{"v":0,"d":"+0"}},{"$f":"specials!AF50","v":{"v":0,"d":"+0"}},{"$f":"specials!AG50","v":{"v":0,"d":"+0"}},{"$f":"specials!AH50","v":{"v":0,"d":"+0"}},{"$f":"specials!AI50","v":{"v":0,"d":"+0"}},{"$f":"specials!AJ50","v":{"v":0,"d":"+0"}},{"$f":"specials!AK50","v":{"v":0,"d":"+0"}},{"$f":"specials!AL50","v":{"v":0,"d":"+0"}},{"$f":"specials!AM50","v":{"v":0,"d":"+0"}},{"$f":"specials!AN50","v":{"v":0,"d":"+0"}},{"$f":"specials!AO50","v":{"v":0,"d":"+0"}},{"$f":"specials!AP50","v":{"v":0,"d":"+0"}}]
["Totaal",{"$f":"SUM(B2:B6)","v":1769},{"$f":"SUM(C2:C6)","v":2127},660,1203,1905,2000,1828,703,701,993,1187,2203,1158,2037,561,1545,900,1740,1623,1575,1854,9999,9999,9999,9999,9999,9999,9999,9999,9999,9999,9999,9999,9999,9999,9999,9999,9999,9999,9999]

{"sheet":"UITSLAG","index":3,"n_rows":9,"n_cols":41,"rows_kept":9}
["Totaal",{"$f":"standaardposten!Q1","v":"Jeremy en Stef"},{"$f":"standaardposten!E1","v":"The Nerds Running from "},{"$f":"standaardposten!K1","v":"De Borascanen"},{"$f":"standaardposten!J1","v":"Balen Express"},{"$f":"standaardposten!S1","v":"PAIN"},{"$f":"standaardposten!L1","v":"De pers. Vr. v Jo Vally"},{"$f":"standaardposten!O1","v":"Kruier en co"},{"$f":"standaardposten!M1","v":"Wiet en Wim"},{"$f":"standaardposten!F1","v":"Cool Running"},{"$f":"standaardposten!R1","v":"Edge of Sanity"},{"$f":"standaardposten!V1","v":"De Boekelbastards"},{"$f":"standaardposten!U1","v":"De Trollen"},{"$f":"standaardposten!T1","v":"De Boswippers"},{"$f":"standaardposten!C1","v":"Eric en Ad"},{"$f":"standaardposten!I1","v":"Het Krolse Molleke"},{"$f":"standaardposten!W1","v":"Brabantse Blubber Baggeraars"},{"$f":"standaardposten!G1","v":"Beat the Cool Running"},{"$f":"standaardposten!H1","v":"De Fixers"},{"$f":"standaardposten!P1","v":"Roesskie idoet"},{"$f":"standaardposten!D1","v":"De Foutlopers"},{"$f":"standaardposten!N1","v":"Dommelen vooruit"},{"$f":"standaardposten!X1","v":0},{"$f":"standaardposten!Y1","v":0},{"$f":"standaardposten!Z1","v":0},{"$f":"standaardposten!AA1","v":0},{"$f":"standaardposten!AB1","v":0},{"$f":"standaardposten!AC1","v":0},{"$f":"standaardposten!AD1","v":0},{"$f":"standaardposten!AE1","v":0},{"$f":"standaardposten!AF1","v":0},{"$f":"standaardposten!AG1","v":0},{"$f":"standaardposten!AH1","v":0},{"$f":"standaardposten!AI1","v":0},{"$f":"standaardposten!AJ1","v":0},{"$f":"standaardposten!AK1","v":0},{"$f":"standaardposten!AL1","v":0},{"$f":"standaardposten!AM1","v":0},{"$f":"standaardposten!AN1","v":0},{"$f":"standaardposten!AO1","v":0},{"$f":"standaardposten!AP1","v":0}]
["Wedstrijduur",{"$f":"IF(B1<>0,360,9999)","v":360},360,360,360,360,360,360,360,360,360,360,360,360,360,360,360,360,360,360,360,360,9999,9999,9999,9999,9999,9999,9999,9999,9999,9999,9999,9999,9999,9999,9999,9999,9999,9999,9999]
["Te vroeg",-39,null,-4,-17,null,3,null,-43,{"$nulls":5},-1,-2,null,null,-25,-3,-3,-2]
["Te laat",null,{"v":75,"d":"+75"},null,null,{"v":0,"d":"+0"},null,{"v":33,"d":"+33"},null,{"v":33,"d":"+33"},{"v":15,"d":"+15"},{"v":120,"d":"+120"},{"v":108,"d":"+108"},{"v":15,"d":"+15"},null,null,{"v":114,"d":"+114"},{"v":0,"d":"+0"}]
["Standaardposten",{"$f":"standaardposten!Q83","v":{"v":60,"d":"+60"}},{"$f":"standaardposten!E83","v":{"v":90,"d":"+90"}},{"$f":"standaardposten!K83","v":{"v":30,"d":"+30"}},{"$f":"standaardposten!J83","v":{"v":180,"d":"+180"}},{"$f":"standaardposten!S83","v":{"v":180,"d":"+180"}},{"$f":"standaardposten!L83","v":{"v":180,"d":"+180"}},{"$f":"standaardposten!O83","v":{"v":180,"d":"+180"}},{"$f":"standaardposten!M83","v":{"v":240,"d":"+240"}},{"$f":"standaardposten!F83","v":{"v":180,"d":"+180"}},{"$f":"standaardposten!R83","v":{"v":360,"d":"+360"}},{"$f":"standaardposten!V83","v":{"v":330,"d":"+330"}},{"$f":"standaardposten!U83","v":{"v":210,"d":"+210"}},{"$f":"standaardposten!T83","v":{"v":240,"d":"+240"}},{"$f":"standaardposten!C83","v":{"v":420,"d":"+420"}},{"$f":"standaardposten!I83","v":{"v":570,"d":"+570"}},{"$f":"standaardposten!W83","v":{"v":390,"d":"+390"}},{"$f":"standaardposten!G83","v":{"v":510,"d":"+510"}},{"$f":"standaardposten!H83","v":{"v":630,"d":"+630"}},{"$f":"standaardposten!P83","v":{"v":870,"d":"+870"}},{"$f":"standaardposten!D83","v":{"v":870,"d":"+870"}},{"$f":"standaardposten!N83","v":{"v":900,"d":"+900"}},{"$f":"standaardposten!X83","v":{"v":0,"d":"+0"}},{"$f":"standaardposten!Y83","v":{"v":0,"d":"+0"}},{"$f":"standaardposten!Z83","v":{"v":0,"d":"+0"}},{"$f":"standaardposten!AA83","v":{"v":0,"d":"+0"}},{"$f":"standaardposten!AB83","v":{"v":0,"d":"+0"}},{"$f":"standaardposten!AC83","v":{"v":0,"d":"+0"}},{"$f":"standaardposten!AD83","v":{"v":0,"d":"+0"}},{"$f":"standaardposten!AE83","v":{"v":0,"d":"+0"}},{"$f":"standaardposten!AF83","v":{"v":0,"d":"+0"}},{"$f":"standaardposten!AG83","v":{"v":0,"d":"+0"}},{"$f":"standaardposten!AH83","v":{"v":0,"d":"+0"}},{"$f":"standaardposten!AI83","v":{"v":0,"d":"+0"}},{"$f":"standaardposten!AJ83","v":{"v":0,"d":"+0"}},{"$f":"standaardposten!AK83","v":{"v":0,"d":"+0"}},{"$f":"standaardposten!AL83","v":{"v":0,"d":"+0"}},{"$f":"standaardposten!AM83","v":{"v":0,"d":"+0"}},{"$f":"standaardposten!AN83","v":{"v":0,"d":"+0"}},{"$f":"standaardposten!AO83","v":{"v":0,"d":"+0"}},{"$f":"standaardposten!AP83","v":{"v":0,"d":"+0"}}]
["Specials",{"$f":"specials!Q50","v":{"v":180,"d":"+180"}},{"$f":"specials!E50","v":{"v":135,"d":"+135"}},{"$f":"specials!K50","v":{"v":315,"d":"+315"}},{"$f":"specials!J50","v":{"v":180,"d":"+180"}},{"$f":"specials!S50","v":{"v":360,"d":"+360"}},{"$f":"specials!L50","v":{"v":450,"d":"+450"}},{"$f":"specials!O50","v":{"v":585,"d":"+585"}},{"$f":"specials!M50","v":{"v":630,"d":"+630"}},{"$f":"specials!F50","v":{"v":630,"d":"+630"}},{"$f":"specials!R50","v":{"v":810,"d":"+810"}},{"$f":"specials!V50","v":{"v":765,"d":"+765"}},{"$f":"specials!U50","v":{"v":945,"d":"+945"}},{"$f":"specials!T50","v":{"v":1125,"d":"+1125"}},{"$f":"specials!C50","v":{"v":990,"d":"+990"}},{"$f":"specials!I50","v":{"v":900,"d":"+900"}},{"$f":"specials!W50","v":{"v":990,"d":"+990"}},{"$f":"specials!G50","v":{"v":1035,"d":"+1035"}},{"$f":"specials!H50","v":{"v":1035,"d":"+1035"}},{"$f":"specials!P50","v":{"v":810,"d":"+810"}},{"$f":"specials!D50","v":{"v":900,"d":"+900"}},{"$f":"specials!N50","v":{"v":945,"d":"+945"}},{"$f":"specials!X50","v":{"v":0,"d":"+0"}},{"$f":"specials!Y50","v":{"v":0,"d":"+0"}},{"$f":"specials!Z50","v":{"v":0,"d":"+0"}},{"$f":"specials!AA50","v":{"v":0,"d":"+0"}},{"$f":"specials!AB50","v":{"v":0,"d":"+0"}},{"$f":"specials!AC50","v":{"v":0,"d":"+0"}},{"$f":"specials!AD50","v":{"v":0,"d":"+0"}},{"$f":"specials!AE50","v":{"v":0,"d":"+0"}},{"$f":"specials!AF50","v":{"v":0,"d":"+0"}},{"$f":"specials!AG50","v":{"v":0,"d":"+0"}},{"$f":"specials!AH50","v":{"v":0,"d":"+0"}},{"$f":"specials!AI50","v":{"v":0,"d":"+0"}},{"$f":"specials!AJ50","v":{"v":0,"d":"+0"}},{"$f":"specials!AK50","v":{"v":0,"d":"+0"}},{"$f":"specials!AL50","v":{"v":0,"d":"+0"}},{"$f":"specials!AM50","v":{"v":0,"d":"+0"}},{"$f":"specials!AN50","v":{"v":0,"d":"+0"}},{"$f":"specials!AO50","v":{"v":0,"d":"+0"}},{"$f":"specials!AP50","v":{"v":0,"d":"+0"}}]
["Totaal",{"$f":"SUM(B2:B6)","v":561},660,701,703,900,993,1158,1187,1203,1545,1575,1623,1740,1769,1828,1854,1905,2000,2037,2127,2203,9999,9999,9999,9999,9999,9999,9999,9999,9999,9999,9999,9999,9999,9999,9999,9999,9999,9999,9999]
[]
["RANG",{"$f":"RANK(B7,$B$7:$AO$7,2)","v":1},{"$f":"RANK(C7,$B$7:$AO$7,2)","v":2},3,4,5,6,7,8,9,10,11,12,13,14,15,16,17,18,19,20,21,22,22,22,22,22,22,22,22,22,22,22,22,22,22,22,22,22,22,22]

{"sheet":"Blad1","index":4,"n_rows":0,"n_cols":0,"rows_kept":0}